BEGIN:VCALENDAR
VERSION:2.0
PRODID:SchoolNow
CALSCALE:GREGORIAN
BEGIN:VEVENT
UID:6f2e549c-2d58-11ef-9a88-0a58a9feac02
DTSTAMP:20240618T095211Z
SUMMARY:Private Event - Jul. 7th
URL;VALUE=URI:https://www.forestcreekcdd.org/calendar/6137948/private-event
 -jul-7th
DTSTART:20240707T180000Z
DTEND:20240707T230000Z
END:VEVENT
END:VCALENDAR
