BEGIN:VCALENDAR
VERSION:2.0
PRODID:SchoolNow
CALSCALE:GREGORIAN
BEGIN:VEVENT
UID:1dfdf01a-2ff5-11ef-a763-0a58a9feac02
DTSTAMP:20240621T173848Z
SUMMARY:Private Event - Jul. 6th
URL;VALUE=URI:https://www.forestcreekcdd.org/calendar/6151908/private-event
 -jul-6th
DTSTART:20240706T140000Z
DTEND:20240706T180000Z
END:VEVENT
END:VCALENDAR
