BEGIN:VCALENDAR
VERSION:2.0
PRODID:SchoolNow
CALSCALE:GREGORIAN
BEGIN:VEVENT
UID:2d96cf9c-2ff5-11ef-9a0c-0ea49c5e2509
DTSTAMP:20240621T173915Z
SUMMARY:Private Event - Jul. 20th
URL;VALUE=URI:https://www.forestcreekcdd.org/calendar/6151909/private-event
 -jul-20th
DTSTART:20240720T140000Z
DTEND:20240720T180000Z
END:VEVENT
END:VCALENDAR
