BEGIN:VCALENDAR
VERSION:2.0
PRODID:SchoolNow
CALSCALE:GREGORIAN
BEGIN:VEVENT
UID:dc0e01ce-3231-11ef-84f5-022b59f4c453
DTSTAMP:20240624T135839Z
SUMMARY:HOA Landscape Committee - July 17th\,  2024
LOCATION:Forest Creek Clubhouse - 11685 Old Florida Lane\, Parrish\, FL 342
 19
URL;VALUE=URI:https://www.forestcreekcdd.org/calendar/6161353/hoa-landscape
 -committee-july-17th-2024
DTSTART:20240717T220000Z
DTEND:20240718T000000Z
END:VEVENT
END:VCALENDAR
