BEGIN:VCALENDAR
VERSION:2.0
PRODID:SchoolNow
CALSCALE:GREGORIAN
BEGIN:VEVENT
UID:3863bc16-3232-11ef-845c-0a58a9feac02
DTSTAMP:20240624T140114Z
SUMMARY:HOA Landscape Committee - August 21st\,  2024
LOCATION:Forest Creek Clubhouse - 11685 Old Florida Lane\, Parrish\, FL 342
 19
URL;VALUE=URI:https://www.forestcreekcdd.org/calendar/6161354/hoa-landscape
 -committee-august-21st-2024
DTSTART:20240821T220000Z
DTEND:20240822T000000Z
END:VEVENT
END:VCALENDAR
