BEGIN:VCALENDAR
VERSION:2.0
PRODID:SchoolNow
CALSCALE:GREGORIAN
BEGIN:VEVENT
UID:4bbe9fce-3232-11ef-ae2d-0e145bc26fc1
DTSTAMP:20240624T140147Z
SUMMARY:HOA Landscape Committee - September 18th\,  2024
LOCATION:Forest Creek Clubhouse - 11685 Old Florida Lane\, Parrish\, FL 342
 19
URL;VALUE=URI:https://www.forestcreekcdd.org/calendar/6161355/hoa-landscape
 -committee-september-18th-2024
DTSTART:20240918T220000Z
DTEND:20240919T000000Z
END:VEVENT
END:VCALENDAR
