BEGIN:VCALENDAR
VERSION:2.0
PRODID:SchoolNow
CALSCALE:GREGORIAN
BEGIN:VEVENT
UID:897b0304-37a3-11ef-ba7d-0a58a9feac02
DTSTAMP:20240701T121459Z
SUMMARY:Private Event - Jul. 4th
URL;VALUE=URI:https://www.forestcreekcdd.org/calendar/6192528/private-event
 -jul-4th
DTSTART:20240704T183000Z
DTEND:20240704T233000Z
END:VEVENT
END:VCALENDAR
