BEGIN:VCALENDAR
VERSION:2.0
PRODID:SchoolNow
CALSCALE:GREGORIAN
BEGIN:VEVENT
UID:08bfb862-4ab4-11ef-9bd8-0e1abcf95a0f
DTSTAMP:20240725T183057Z
SUMMARY:Private Event - Aug. 11th
URL;VALUE=URI:https://www.forestcreekcdd.org/calendar/6308546/private-event
 -aug-11th
DTSTART:20240811T170000Z
DTEND:20240811T220000Z
END:VEVENT
END:VCALENDAR
