BEGIN:VCALENDAR
VERSION:2.0
PRODID:SchoolNow
CALSCALE:GREGORIAN
BEGIN:VEVENT
UID:07030ed6-565b-11ef-94c7-0a58a9feac02
DTSTAMP:20240809T142403Z
SUMMARY:Private Event - Aug. 10th
URL;VALUE=URI:https://www.forestcreekcdd.org/calendar/6376233/private-event
 -aug-10th
DTSTART:20240810T140000Z
DTEND:20240810T180000Z
END:VEVENT
END:VCALENDAR
