BEGIN:VCALENDAR
VERSION:2.0
PRODID:SchoolNow
CALSCALE:GREGORIAN
BEGIN:VEVENT
UID:ca1df798-5fb9-11ef-8b79-0e52269c337f
DTSTAMP:20240926T171948Z
SUMMARY:CDD Board Meeting  - October 3\, 2024
LOCATION:Forest Creek Clubhouse - 11685 Old Florida Lane\, Parrish\, FL 342
 19
URL;VALUE=URI:https://www.forestcreekcdd.org/calendar/6437002/cdd-board-mee
 ting-october-3-2024
DTSTART:20241003T170000Z
DTEND:20241003T200000Z
ATTACH;FILENAME=2024-10-03 FC Agenda.pdf;FMTTYPE=application/pdf:https://ca
 mpussuite-storage.s3.amazonaws.com/prod/1558968/5742251a-fff5-11e9-a8e4-0a
 793f2f5ecb/2853919/85dcab22-7c2b-11ef-9e0d-0ee82a1a25c9/file/2024-10-03 FC
  Agenda.pdf
END:VEVENT
END:VCALENDAR
