BEGIN:VCALENDAR
VERSION:2.0
PRODID:SchoolNow
CALSCALE:GREGORIAN
BEGIN:VEVENT
UID:d6710b34-5fb9-11ef-8370-0a58a9feac02
DTSTAMP:20241031T194239Z
SUMMARY:CDD Board Meeting  - November 7\, 2024
LOCATION:Forest Creek Clubhouse - 11685 Old Florida Lane\, Parrish\, FL 342
 19
URL;VALUE=URI:https://www.forestcreekcdd.org/calendar/6437003/cdd-board-mee
 ting-november-7-2024
DTSTART:20241107T180000Z
DTEND:20241107T210000Z
ATTACH;FILENAME=2024-11-07 FC Agenda _v2.pdf;FMTTYPE=application/pdf:https:
 //campussuite-storage.s3.amazonaws.com/prod/1558968/5742251a-fff5-11e9-a8e
 4-0a793f2f5ecb/2872300/46b05f7e-97c0-11ef-b5d2-0a58a9feac02/file/2024-11-0
 7 FC Agenda _v2.pdf
END:VEVENT
END:VCALENDAR
