BEGIN:VCALENDAR
VERSION:2.0
PRODID:SchoolNow
CALSCALE:GREGORIAN
BEGIN:VEVENT
UID:e9cf66d0-5fb9-11ef-bbb3-0affcff73f5b
DTSTAMP:20241205T222611Z
SUMMARY:CDD Board Meeting  - December 12\, 2024
LOCATION:Forest Creek Clubhouse - 11685 Old Florida Lane\, Parrish\, FL 342
 19
URL;VALUE=URI:https://www.forestcreekcdd.org/calendar/6437004/cdd-board-mee
 ting-december-12-2024
DTSTART:20241212T180000Z
DTEND:20241212T210000Z
ATTACH;FILENAME=2024-12-12 FC  Agenda _v2.pdf;FMTTYPE=application/pdf:https
 ://campussuite-storage.s3.amazonaws.com/prod/1558968/5742251a-fff5-11e9-a8
 e4-0a793f2f5ecb/2887593/eb2e1bf6-b357-11ef-8e2b-0a58a9feac02/file/2024-12-
 12 FC  Agenda _v2.pdf
END:VEVENT
END:VCALENDAR
