BEGIN:VCALENDAR
VERSION:2.0
PRODID:SchoolNow
CALSCALE:GREGORIAN
BEGIN:VEVENT
UID:f6aaf400-5fb9-11ef-9d99-0afff9476379
DTSTAMP:20250103T222559Z
SUMMARY:CDD Board Meeting  - January 9\, 2025
LOCATION:Forest Creek Clubhouse - 11685 Old Florida Lane\, Parrish\, FL 342
 19
URL;VALUE=URI:https://www.forestcreekcdd.org/calendar/6437005/cdd-board-mee
 ting-january-9-2025
DTSTART:20250109T180000Z
DTEND:20250109T210000Z
ATTACH;FILENAME=2025-01-09 FC Agenda.pdf;FMTTYPE=application/pdf:https://ca
 mpussuite-storage.s3.amazonaws.com/prod/1558968/5742251a-fff5-11e9-a8e4-0a
 793f2f5ecb/2898088/a7ebe8e2-ca21-11ef-8c76-0a58a9feac02/file/2025-01-09 FC
  Agenda.pdf
END:VEVENT
END:VCALENDAR
