BEGIN:VCALENDAR
VERSION:2.0
PRODID:SchoolNow
CALSCALE:GREGORIAN
BEGIN:VEVENT
UID:036cd6fe-5fba-11ef-b99b-0a58a9feac02
DTSTAMP:20250131T142404Z
SUMMARY:CDD Board Meeting  - February 6\, 2025
LOCATION:Forest Creek Clubhouse - 11685 Old Florida Lane\, Parrish\, FL 342
 19
URL;VALUE=URI:https://www.forestcreekcdd.org/calendar/6437006/cdd-board-mee
 ting-february-6-2025
DTSTART:20250206T180000Z
DTEND:20250206T210000Z
ATTACH;FILENAME=2025-02-06 FC Agenda v 2 - wew.pdf;FMTTYPE=application/pdf:
 https://campussuite-storage.s3.amazonaws.com/prod/1558968/5742251a-fff5-11
 e9-a8e4-0a793f2f5ecb/2909244/00cc37be-dfdf-11ef-8760-0268549f9e55/file/202
 5-02-06 FC Agenda v 2 - wew.pdf
END:VEVENT
END:VCALENDAR
