BEGIN:VCALENDAR
VERSION:2.0
PRODID:SchoolNow
CALSCALE:GREGORIAN
BEGIN:VEVENT
UID:15e589e8-5fba-11ef-9e4e-0afff0795b11
DTSTAMP:20250228T203501Z
SUMMARY:CDD Board Meeting  - March 6\, 2025
LOCATION:Forest Creek Clubhouse - 11685 Old Florida Lane\, Parrish\, FL 342
 19
URL;VALUE=URI:https://www.forestcreekcdd.org/calendar/6437007/cdd-board-mee
 ting-march-6-2025
DTSTART:20250306T230000Z
DTEND:20250307T020000Z
ATTACH;FILENAME=2025-03-06 FC Agenda _ REVISED.pdf;FMTTYPE=application/pdf:
 https://campussuite-storage.s3.amazonaws.com/prod/1558968/5742251a-fff5-11
 e9-a8e4-0a793f2f5ecb/2921444/772be6d0-f613-11ef-98a9-0a58a9feac02/file/202
 5-03-06 FC Agenda _ REVISED.pdf
END:VEVENT
END:VCALENDAR
