BEGIN:VCALENDAR
VERSION:2.0
PRODID:SchoolNow
CALSCALE:GREGORIAN
BEGIN:VEVENT
UID:269087ca-5fba-11ef-a311-0afff0795b11
DTSTAMP:20250402T200211Z
SUMMARY:CDD Board Meeting  - April 3\, 2025
LOCATION:Forest Creek Clubhouse - 11685 Old Florida Lane\, Parrish\, FL 342
 19
URL;VALUE=URI:https://www.forestcreekcdd.org/calendar/6437008/cdd-board-mee
 ting-april-3-2025
DTSTART:20250403T170000Z
DTEND:20250403T200000Z
ATTACH;FILENAME=2025-04-03 FC Agenda _ REVISED.pdf;FMTTYPE=application/pdf:
 https://campussuite-storage.s3.amazonaws.com/prod/1558968/5742251a-fff5-11
 e9-a8e4-0a793f2f5ecb/2935415/5a0cf37e-0ffd-11f0-9300-0a58a9feac02/file/202
 5-04-03 FC Agenda _ REVISED.pdf
END:VEVENT
END:VCALENDAR
