BEGIN:VCALENDAR
VERSION:2.0
PRODID:SchoolNow
CALSCALE:GREGORIAN
BEGIN:VEVENT
UID:337e494a-5fba-11ef-9e6c-0affdb8db763
DTSTAMP:20250425T201625Z
SUMMARY:CDD Board Meeting  - May 1\, 2025
LOCATION:Forest Creek Clubhouse - 11685 Old Florida Lane\, Parrish\, FL 342
 19
URL;VALUE=URI:https://www.forestcreekcdd.org/calendar/6437009/cdd-board-mee
 ting-may-1-2025
DTSTART:20250501T170000Z
DTEND:20250501T200000Z
ATTACH;FILENAME=2025-05-01 FC Agenda REVISED.pdf;FMTTYPE=application/pdf:ht
 tps://campussuite-storage.s3.amazonaws.com/prod/1558968/5742251a-fff5-11e9
 -a8e4-0a793f2f5ecb/2945058/26d6ba5e-2212-11f0-a16c-0a58a9feac02/file/2025-
 05-01 FC Agenda REVISED.pdf
END:VEVENT
END:VCALENDAR
