BEGIN:VCALENDAR
VERSION:2.0
PRODID:SchoolNow
CALSCALE:GREGORIAN
BEGIN:VEVENT
UID:4a459ade-5fba-11ef-8ad4-0e33c5c0bb61
DTSTAMP:20250530T221026Z
SUMMARY:CDD Board Meeting  - June 5\, 2025
LOCATION:Forest Creek Clubhouse - 11685 Old Florida Lane\, Parrish\, FL 342
 19
URL;VALUE=URI:https://www.forestcreekcdd.org/calendar/6437010/cdd-board-mee
 ting-june-5-2025
DTSTART:20250605T220000Z
DTEND:20250606T010000Z
ATTACH;FILENAME=2025-06-05 Forest Creek CDD Agenda Package.pdf;FMTTYPE=appl
 ication/pdf:https://campussuite-storage.s3.amazonaws.com/prod/1558968/5742
 251a-fff5-11e9-a8e4-0a793f2f5ecb/2962321/dfdaae10-3da2-11f0-af29-0affeeccf
 f39/file/2025-06-05 Forest Creek CDD Agenda Package.pdf
END:VEVENT
END:VCALENDAR
