BEGIN:VCALENDAR
VERSION:2.0
PRODID:SchoolNow
CALSCALE:GREGORIAN
BEGIN:VEVENT
UID:599bfa5a-5fba-11ef-bfc7-02dd757ef76b
DTSTAMP:20250702T182529Z
SUMMARY:CDD Board Meeting  - July 3\, 2025
LOCATION:Forest Creek Clubhouse - 11685 Old Florida Lane\, Parrish\, FL 342
 19
URL;VALUE=URI:https://www.forestcreekcdd.org/calendar/6437011/cdd-board-mee
 ting-july-3-2025
DTSTART:20250703T170000Z
DTEND:20250703T200000Z
ATTACH;FILENAME=2025-07-03 Forest Creek CDD Agenda Package_c.pdf;FMTTYPE=ap
 plication/pdf:https://campussuite-storage.s3.amazonaws.com/prod/1558968/57
 42251a-fff5-11e9-a8e4-0a793f2f5ecb/2975068/3b2b6a14-52d1-11f0-ba9b-0eb6f8f
 d2a6d/file/2025-07-03 Forest Creek CDD Agenda Package_c.pdf
ATTACH;FILENAME=2025-07-03 Forest Creek Addendum Agenda Package.pdf;FMTTYPE
 =application/pdf:https://campussuite-storage.s3.amazonaws.com/prod/1558968
 /5742251a-fff5-11e9-a8e4-0a793f2f5ecb/2977889/e83acbec-5771-11f0-8646-0e29
 94befe05/file/2025-07-03 Forest Creek Addendum Agenda Package.pdf
END:VEVENT
END:VCALENDAR
