BEGIN:VCALENDAR
VERSION:2.0
PRODID:SchoolNow
CALSCALE:GREGORIAN
BEGIN:VEVENT
UID:6a4a2a8e-5fba-11ef-914b-0a58a9feac02
DTSTAMP:20250801T145210Z
SUMMARY:CDD Board Meeting  - August 7\, 2025
LOCATION:Forest Creek Clubhouse - 11685 Old Florida Lane\, Parrish\, FL 342
 19
URL;VALUE=URI:https://www.forestcreekcdd.org/calendar/6437012/cdd-board-mee
 ting-august-7-2025
DTSTART:20250807T220000Z
DTEND:20250808T010000Z
ATTACH;FILENAME=2025-08-07 Forest Creek CDD Agenda Package_compressed.pdf;F
 MTTYPE=application/pdf:https://campussuite-storage.s3.amazonaws.com/prod/1
 558968/5742251a-fff5-11e9-a8e4-0a793f2f5ecb/2987908/16a9c280-6ee7-11f0-938
 e-0eee7c8c1e25/file/2025-08-07 Forest Creek CDD Agenda Package_compressed.
 pdf
END:VEVENT
END:VCALENDAR
