BEGIN:VCALENDAR
VERSION:2.0
PRODID:SchoolNow
CALSCALE:GREGORIAN
BEGIN:VEVENT
UID:7b30db7c-5fba-11ef-b747-0a58a9feac02
DTSTAMP:20250829T203302Z
SUMMARY:CDD Board Meeting  - September 4\, 2025
LOCATION:Forest Creek Clubhouse - 11685 Old Florida Lane\, Parrish\, FL 342
 19
URL;VALUE=URI:https://www.forestcreekcdd.org/calendar/6437013/cdd-board-mee
 ting-september-4-2025
DTSTART:20250904T170000Z
DTEND:20250904T200000Z
ATTACH;FILENAME=2025-09-04 Forest Creek CDD Agenda Package.pdf;FMTTYPE=appl
 ication/pdf:https://campussuite-storage.s3.amazonaws.com/prod/1558968/5742
 251a-fff5-11e9-a8e4-0a793f2f5ecb/3001492/56b52bee-8517-11f0-8fa0-0a58a9fea
 c02/file/2025-09-04 Forest Creek CDD Agenda Package.pdf
END:VEVENT
END:VCALENDAR
