BEGIN:VCALENDAR
VERSION:2.0
PRODID:SchoolNow
CALSCALE:GREGORIAN
BEGIN:VEVENT
UID:89ba03ea-5fff-11ef-980a-0e717b52c65d
DTSTAMP:20240821T205420Z
SUMMARY:Private Event - Aug. 22nd
URL;VALUE=URI:https://www.forestcreekcdd.org/calendar/6438547/private-event
 -aug-22nd
DTSTART:20240822T220000Z
DTEND:20240823T010000Z
END:VEVENT
END:VCALENDAR
