BEGIN:VCALENDAR
VERSION:2.0
PRODID:SchoolNow
CALSCALE:GREGORIAN
BEGIN:VEVENT
UID:0022bf1c-7abe-11ef-b63a-0e1c7e28ae57
DTSTAMP:20240924T214313Z
SUMMARY:HOA Landscape Committee - November 13th\,  2024
LOCATION:Forest Creek Clubhouse - 11685 Old Florida Lane\, Parrish\, FL 342
 19
URL;VALUE=URI:https://www.forestcreekcdd.org/calendar/6683078/hoa-landscape
 -committee-november-13th-2024
DTSTART:20241113T230000Z
DTEND:20241114T010000Z
END:VEVENT
END:VCALENDAR
