BEGIN:VCALENDAR
VERSION:2.0
PRODID:SchoolNow
CALSCALE:GREGORIAN
BEGIN:VEVENT
UID:1270d182-7f6d-11ef-b0f1-0a58a9feac02
DTSTAMP:20240930T204630Z
SUMMARY:Private Event - Dec. 14th
URL;VALUE=URI:https://www.forestcreekcdd.org/calendar/6726661/private-event
 -dec-14th
DTSTART:20241214T190000Z
DTEND:20241215T000000Z
END:VEVENT
END:VCALENDAR
