BEGIN:VCALENDAR
VERSION:2.0
PRODID:SchoolNow
CALSCALE:GREGORIAN
BEGIN:VEVENT
UID:558df734-8282-11ef-9287-02f1535416c5
DTSTAMP:20241004T185616Z
SUMMARY:Community Ornament Exchange
URL;VALUE=URI:https://www.forestcreekcdd.org/calendar/6757977/community-orn
 ament-exchange
DTSTART:20241221T193000Z
DTEND:20241221T230000Z
END:VEVENT
END:VCALENDAR
