BEGIN:VCALENDAR
VERSION:2.0
PRODID:SchoolNow
CALSCALE:GREGORIAN
BEGIN:VEVENT
UID:074e6752-9169-11ef-9173-0a58a9feac02
DTSTAMP:20241023T180255Z
SUMMARY:Private Event - Nov. 10th
URL;VALUE=URI:https://www.forestcreekcdd.org/calendar/6883087/private-event
 -nov-10th
DTSTART:20241110T180000Z
DTEND:20241110T230000Z
END:VEVENT
END:VCALENDAR
