BEGIN:VCALENDAR
VERSION:2.0
PRODID:SchoolNow
CALSCALE:GREGORIAN
BEGIN:VEVENT
UID:d41b67dc-a5ad-11ef-a296-0a58a9feac02
DTSTAMP:20241120T215725Z
SUMMARY:Community Christmas Event
LOCATION:Clubhouse
URL;VALUE=URI:https://www.forestcreekcdd.org/calendar/7040465/community-chr
 istmas-event
DTSTART:20241215T210000Z
DTEND:20241216T000000Z
END:VEVENT
END:VCALENDAR
