BEGIN:VCALENDAR
VERSION:2.0
PRODID:SchoolNow
CALSCALE:GREGORIAN
BEGIN:VEVENT
UID:28a0b5ea-a78a-11ef-baf1-0a58a9feac02
DTSTAMP:20250327T124306Z
SUMMARY:Forest Creek Holiday Pary
URL;VALUE=URI:https://www.forestcreekcdd.org/calendar/7053512/forest-creek-
 holiday-pary
DTSTART:20241215T210000Z
DTEND:20241216T000000Z
END:VEVENT
END:VCALENDAR
