BEGIN:VCALENDAR
VERSION:2.0
PRODID:SchoolNow
CALSCALE:GREGORIAN
BEGIN:VEVENT
UID:35008de2-ac12-11ef-b47b-0a58a9feac02
DTSTAMP:20241126T161927Z
SUMMARY:Private Event - Nov. 28th
URL;VALUE=URI:https://www.forestcreekcdd.org/calendar/7082377/private-event
 -nov-28th
DTSTART:20241128T173000Z
DTEND:20241128T223000Z
END:VEVENT
END:VCALENDAR
