BEGIN:VCALENDAR
VERSION:2.0
PRODID:SchoolNow
CALSCALE:GREGORIAN
BEGIN:VEVENT
UID:fc4eece4-c6b2-11ef-b006-0eaa8dd3a4ef
DTSTAMP:20241230T135337Z
SUMMARY:Mahjong - Feb 11\, 2025
LOCATION:Clubhouse
URL;VALUE=URI:https://www.forestcreekcdd.org/calendar/7245066/mahjong-feb-1
 1-2025
DTSTART:20250211T233000Z
DTEND:20250212T013000Z
END:VEVENT
END:VCALENDAR
