BEGIN:VCALENDAR
VERSION:2.0
PRODID:SchoolNow
CALSCALE:GREGORIAN
BEGIN:VEVENT
UID:2a9e268c-c6b3-11ef-a453-0a58a9feac02
DTSTAMP:20241230T135349Z
SUMMARY:Mahjong - Feb. 18\, 2025
LOCATION:Clubhouse
URL;VALUE=URI:https://www.forestcreekcdd.org/calendar/7245067/mahjong-feb-1
 8-2025
DTSTART:20250218T233000Z
DTEND:20250219T013000Z
END:VEVENT
END:VCALENDAR
