BEGIN:VCALENDAR
VERSION:2.0
PRODID:SchoolNow
CALSCALE:GREGORIAN
BEGIN:VEVENT
UID:39a2dd3a-c6b3-11ef-b399-0a58a9feac02
DTSTAMP:20241230T135402Z
SUMMARY:Mahjong - Feb. 25\, 2025
LOCATION:Clubhouse
URL;VALUE=URI:https://www.forestcreekcdd.org/calendar/7245068/mahjong-feb-2
 5-2025
DTSTART:20250225T233000Z
DTEND:20250226T013000Z
END:VEVENT
END:VCALENDAR
