BEGIN:VCALENDAR
VERSION:2.0
PRODID:SchoolNow
CALSCALE:GREGORIAN
BEGIN:VEVENT
UID:41d415dc-c6b3-11ef-afd3-02f53cc9552d
DTSTAMP:20241230T135529Z
SUMMARY:Mahjong - Apr. 15\, 2025
LOCATION:Clubhouse
URL;VALUE=URI:https://www.forestcreekcdd.org/calendar/7245069/mahjong-apr-1
 5-2025
DTSTART:20250415T223000Z
DTEND:20250416T003000Z
END:VEVENT
END:VCALENDAR
