BEGIN:VCALENDAR
VERSION:2.0
PRODID:SchoolNow
CALSCALE:GREGORIAN
BEGIN:VEVENT
UID:5d87ba18-c6b3-11ef-b6d7-0e27c1cd314f
DTSTAMP:20241230T135517Z
SUMMARY:Mahjong - Apr. 8\, 2025
LOCATION:Clubhouse
URL;VALUE=URI:https://www.forestcreekcdd.org/calendar/7245070/mahjong-apr-8
 -2025
DTSTART:20250408T223000Z
DTEND:20250409T003000Z
END:VEVENT
END:VCALENDAR
