BEGIN:VCALENDAR
VERSION:2.0
PRODID:SchoolNow
CALSCALE:GREGORIAN
BEGIN:VEVENT
UID:ae8c2610-c6b3-11ef-8f53-028ca33ecb31
DTSTAMP:20241230T135543Z
SUMMARY:Mahjong - Apr. 22\, 2025
LOCATION:Clubhouse
URL;VALUE=URI:https://www.forestcreekcdd.org/calendar/7245071/mahjong-apr-2
 2-2025
DTSTART:20250422T223000Z
DTEND:20250423T003000Z
END:VEVENT
END:VCALENDAR
