BEGIN:VCALENDAR
VERSION:2.0
PRODID:SchoolNow
CALSCALE:GREGORIAN
BEGIN:VEVENT
UID:bc191f2c-c6b3-11ef-ad4b-028ca33ecb31
DTSTAMP:20241230T135226Z
SUMMARY:Mahjong - Jan. 7\, 2025
LOCATION:Clubhouse
URL;VALUE=URI:https://www.forestcreekcdd.org/calendar/7245073/mahjong-jan-7
 -2025
DTSTART:20250107T233000Z
DTEND:20250108T013000Z
END:VEVENT
END:VCALENDAR
