BEGIN:VCALENDAR
VERSION:2.0
PRODID:SchoolNow
CALSCALE:GREGORIAN
BEGIN:VEVENT
UID:bc1af9e6-c6b3-11ef-82d1-028ca33ecb31
DTSTAMP:20241230T135238Z
SUMMARY:Mahjong - Jan. 14\, 2025
LOCATION:Clubhouse
URL;VALUE=URI:https://www.forestcreekcdd.org/calendar/7245074/mahjong-jan-1
 4-2025
DTSTART:20250114T233000Z
DTEND:20250115T013000Z
END:VEVENT
END:VCALENDAR
