BEGIN:VCALENDAR
VERSION:2.0
PRODID:SchoolNow
CALSCALE:GREGORIAN
BEGIN:VEVENT
UID:bc1ce9c2-c6b3-11ef-9a75-028ca33ecb31
DTSTAMP:20241230T135248Z
SUMMARY:Mahjong - Jan. 21\, 2025
LOCATION:Clubhouse
URL;VALUE=URI:https://www.forestcreekcdd.org/calendar/7245075/mahjong-jan-2
 1-2025
DTSTART:20250121T233000Z
DTEND:20250122T013000Z
END:VEVENT
END:VCALENDAR
