BEGIN:VCALENDAR
VERSION:2.0
PRODID:SchoolNow
CALSCALE:GREGORIAN
BEGIN:VEVENT
UID:bc1e76f2-c6b3-11ef-b6d0-028ca33ecb31
DTSTAMP:20241230T135305Z
SUMMARY:Mahjong - Jan. 28\, 2025
LOCATION:Clubhouse
URL;VALUE=URI:https://www.forestcreekcdd.org/calendar/7245076/mahjong-jan-2
 8-2025
DTSTART:20250128T233000Z
DTEND:20250129T013000Z
END:VEVENT
END:VCALENDAR
