BEGIN:VCALENDAR
VERSION:2.0
PRODID:SchoolNow
CALSCALE:GREGORIAN
BEGIN:VEVENT
UID:bc200436-c6b3-11ef-afe4-028ca33ecb31
DTSTAMP:20241230T135323Z
SUMMARY:Mahjong - Feb. 4\, 2025
LOCATION:Clubhouse
URL;VALUE=URI:https://www.forestcreekcdd.org/calendar/7245077/mahjong-feb-4
 -2025
DTSTART:20250204T233000Z
DTEND:20250205T013000Z
END:VEVENT
END:VCALENDAR
