BEGIN:VCALENDAR
VERSION:2.0
PRODID:SchoolNow
CALSCALE:GREGORIAN
BEGIN:VEVENT
UID:2015ee74-c6b4-11ef-8c5d-0a58a9feac02
DTSTAMP:20241230T135614Z
SUMMARY:Mahjong - May 6\, 2025
LOCATION:Clubhouse
URL;VALUE=URI:https://www.forestcreekcdd.org/calendar/7245078/mahjong-may-6
 -2025
DTSTART:20250506T223000Z
DTEND:20250507T003000Z
END:VEVENT
END:VCALENDAR
