BEGIN:VCALENDAR
VERSION:2.0
PRODID:SchoolNow
CALSCALE:GREGORIAN
BEGIN:VEVENT
UID:39a795c2-c6b4-11ef-85f2-0a58a9feac02
DTSTAMP:20241230T135414Z
SUMMARY:Mahjong - Mar. 4\, 2025
LOCATION:Clubhouse
URL;VALUE=URI:https://www.forestcreekcdd.org/calendar/7245080/mahjong-mar-4
 -2025
DTSTART:20250304T233000Z
DTEND:20250305T013000Z
END:VEVENT
END:VCALENDAR
