BEGIN:VCALENDAR
VERSION:2.0
PRODID:SchoolNow
CALSCALE:GREGORIAN
BEGIN:VEVENT
UID:39a8b2e0-c6b4-11ef-b9e0-0a58a9feac02
DTSTAMP:20241230T135424Z
SUMMARY:Mahjong - Mar. 11\, 2025
LOCATION:Clubhouse
URL;VALUE=URI:https://www.forestcreekcdd.org/calendar/7245081/mahjong-mar-1
 1-2025
DTSTART:20250311T223000Z
DTEND:20250312T003000Z
END:VEVENT
END:VCALENDAR
