BEGIN:VCALENDAR
VERSION:2.0
PRODID:SchoolNow
CALSCALE:GREGORIAN
BEGIN:VEVENT
UID:39a96e42-c6b4-11ef-91ab-0a58a9feac02
DTSTAMP:20241230T135436Z
SUMMARY:Mahjong - Mar. 18\, 2025
LOCATION:Clubhouse
URL;VALUE=URI:https://www.forestcreekcdd.org/calendar/7245082/mahjong-mar-1
 8-2025
DTSTART:20250318T223000Z
DTEND:20250319T003000Z
END:VEVENT
END:VCALENDAR
