BEGIN:VCALENDAR
VERSION:2.0
PRODID:SchoolNow
CALSCALE:GREGORIAN
BEGIN:VEVENT
UID:39aa7080-c6b4-11ef-9eb3-0a58a9feac02
DTSTAMP:20241230T135450Z
SUMMARY:Mahjong - Mar. 25\, 2025
LOCATION:Clubhouse
URL;VALUE=URI:https://www.forestcreekcdd.org/calendar/7245083/mahjong-mar-2
 5-2025
DTSTART:20250325T223000Z
DTEND:20250326T003000Z
END:VEVENT
END:VCALENDAR
