BEGIN:VCALENDAR
VERSION:2.0
PRODID:SchoolNow
CALSCALE:GREGORIAN
BEGIN:VEVENT
UID:39ab4816-c6b4-11ef-b8e9-0a58a9feac02
DTSTAMP:20241230T135504Z
SUMMARY:Mahjong - Apr. 1\, 2025
LOCATION:Clubhouse
URL;VALUE=URI:https://www.forestcreekcdd.org/calendar/7245084/mahjong-apr-1
 -2025
DTSTART:20250401T223000Z
DTEND:20250402T003000Z
END:VEVENT
END:VCALENDAR
