BEGIN:VCALENDAR
VERSION:2.0
PRODID:SchoolNow
CALSCALE:GREGORIAN
BEGIN:VEVENT
UID:a4f12cb2-c6b4-11ef-adee-02b7128a9073
DTSTAMP:20241230T135710Z
SUMMARY:Mahjong - May 13\, 2025
LOCATION:Clubhouse
URL;VALUE=URI:https://www.forestcreekcdd.org/calendar/7245085/mahjong-may-1
 3-2025
DTSTART:20250513T223000Z
DTEND:20250514T003000Z
END:VEVENT
END:VCALENDAR
