BEGIN:VCALENDAR
VERSION:2.0
PRODID:SchoolNow
CALSCALE:GREGORIAN
BEGIN:VEVENT
UID:b0af3a80-c6b4-11ef-a134-0a58a9feac02
DTSTAMP:20241230T135735Z
SUMMARY:Mahjong - May 20\, 2025
LOCATION:Clubhouse
URL;VALUE=URI:https://www.forestcreekcdd.org/calendar/7245086/mahjong-may-2
 0-2025
DTSTART:20250520T223000Z
DTEND:20250521T003000Z
END:VEVENT
END:VCALENDAR
