BEGIN:VCALENDAR
VERSION:2.0
PRODID:SchoolNow
CALSCALE:GREGORIAN
BEGIN:VEVENT
UID:b9578cbe-c6b4-11ef-ada7-02f53cc9552d
DTSTAMP:20241230T135750Z
SUMMARY:Mahjong - May 27\, 2025
LOCATION:Clubhouse
URL;VALUE=URI:https://www.forestcreekcdd.org/calendar/7245087/mahjong-may-2
 7-2025
DTSTART:20250527T223000Z
DTEND:20250528T003000Z
END:VEVENT
END:VCALENDAR
