BEGIN:VCALENDAR
VERSION:2.0
PRODID:SchoolNow
CALSCALE:GREGORIAN
BEGIN:VEVENT
UID:cad96d04-c6b4-11ef-9225-0eaa8dd3a4ef
DTSTAMP:20241230T135806Z
SUMMARY:Mahjong - Jun. 3\, 2025
LOCATION:Clubhouse
URL;VALUE=URI:https://www.forestcreekcdd.org/calendar/7245088/mahjong-jun-3
 -2025
DTSTART:20250603T223000Z
DTEND:20250604T003000Z
END:VEVENT
END:VCALENDAR
